BEGIN:VCALENDAR
VERSION:2.0
PRODID:-//Hillside Montessori LaGrange GA - ECPv6.15.20//NONSGML v1.0//EN
CALSCALE:GREGORIAN
METHOD:PUBLISH
X-ORIGINAL-URL:https://hillsidemontessorilagrange.com
X-WR-CALDESC:Events for Hillside Montessori LaGrange GA
REFRESH-INTERVAL;VALUE=DURATION:PT1H
X-Robots-Tag:noindex
X-PUBLISHED-TTL:PT1H
BEGIN:VTIMEZONE
TZID:America/New_York
BEGIN:DAYLIGHT
TZOFFSETFROM:-0500
TZOFFSETTO:-0400
TZNAME:EDT
DTSTART:20250309T070000
END:DAYLIGHT
BEGIN:STANDARD
TZOFFSETFROM:-0400
TZOFFSETTO:-0500
TZNAME:EST
DTSTART:20251102T060000
END:STANDARD
BEGIN:DAYLIGHT
TZOFFSETFROM:-0500
TZOFFSETTO:-0400
TZNAME:EDT
DTSTART:20260308T070000
END:DAYLIGHT
BEGIN:STANDARD
TZOFFSETFROM:-0400
TZOFFSETTO:-0500
TZNAME:EST
DTSTART:20261101T060000
END:STANDARD
BEGIN:DAYLIGHT
TZOFFSETFROM:-0500
TZOFFSETTO:-0400
TZNAME:EDT
DTSTART:20270314T070000
END:DAYLIGHT
BEGIN:STANDARD
TZOFFSETFROM:-0400
TZOFFSETTO:-0500
TZNAME:EST
DTSTART:20271107T060000
END:STANDARD
END:VTIMEZONE
BEGIN:VEVENT
DTSTART;TZID=America/New_York:20260119T080000
DTEND;TZID=America/New_York:20260119T170000
DTSTAMP:20260421T085456
CREATED:20250715T135631Z
LAST-MODIFIED:20250715T135631Z
UID:2619-1768809600-1768842000@hillsidemontessorilagrange.com
SUMMARY:MLK Holiday- No School
DESCRIPTION:
URL:https://hillsidemontessorilagrange.com/event/mlk-holiday-no-school/
LOCATION:Hillside Montessori\, 1001 Hills and Dales Farm Road\, LaGrange\, GA\, 30240\, United States
ORGANIZER;CN="Hillside Montessori":MAILTO:elizabeth.hillsidemontessori@gmail.com
END:VEVENT
END:VCALENDAR