BEGIN:VCALENDAR
VERSION:2.0
PRODID:-//Hillside Montessori LaGrange GA - ECPv6.15.20//NONSGML v1.0//EN
CALSCALE:GREGORIAN
METHOD:PUBLISH
X-ORIGINAL-URL:https://hillsidemontessorilagrange.com
X-WR-CALDESC:Events for Hillside Montessori LaGrange GA
REFRESH-INTERVAL;VALUE=DURATION:PT1H
X-Robots-Tag:noindex
X-PUBLISHED-TTL:PT1H
BEGIN:VTIMEZONE
TZID:America/New_York
BEGIN:DAYLIGHT
TZOFFSETFROM:-0500
TZOFFSETTO:-0400
TZNAME:EDT
DTSTART:20240310T070000
END:DAYLIGHT
BEGIN:STANDARD
TZOFFSETFROM:-0400
TZOFFSETTO:-0500
TZNAME:EST
DTSTART:20241103T060000
END:STANDARD
BEGIN:DAYLIGHT
TZOFFSETFROM:-0500
TZOFFSETTO:-0400
TZNAME:EDT
DTSTART:20250309T070000
END:DAYLIGHT
BEGIN:STANDARD
TZOFFSETFROM:-0400
TZOFFSETTO:-0500
TZNAME:EST
DTSTART:20251102T060000
END:STANDARD
BEGIN:DAYLIGHT
TZOFFSETFROM:-0500
TZOFFSETTO:-0400
TZNAME:EDT
DTSTART:20260308T070000
END:DAYLIGHT
BEGIN:STANDARD
TZOFFSETFROM:-0400
TZOFFSETTO:-0500
TZNAME:EST
DTSTART:20261101T060000
END:STANDARD
BEGIN:DAYLIGHT
TZOFFSETFROM:-0500
TZOFFSETTO:-0400
TZNAME:EDT
DTSTART:20270314T070000
END:DAYLIGHT
BEGIN:STANDARD
TZOFFSETFROM:-0400
TZOFFSETTO:-0500
TZNAME:EST
DTSTART:20271107T060000
END:STANDARD
END:VTIMEZONE
BEGIN:VEVENT
DTSTART;TZID=America/New_York:20251222T000000
DTEND;TZID=America/New_York:20260105T000000
DTSTAMP:20260425T064341
CREATED:20250715T130917Z
LAST-MODIFIED:20250715T131348Z
UID:2598-1766361600-1767571200@hillsidemontessorilagrange.com
SUMMARY:Christmas Holidays
DESCRIPTION:
URL:https://hillsidemontessorilagrange.com/event/christmas-holidays/
END:VEVENT
BEGIN:VEVENT
DTSTART;TZID=America/New_York:20260119T080000
DTEND;TZID=America/New_York:20260119T170000
DTSTAMP:20260425T064341
CREATED:20250715T135631Z
LAST-MODIFIED:20250715T135631Z
UID:2619-1768809600-1768842000@hillsidemontessorilagrange.com
SUMMARY:MLK Holiday- No School
DESCRIPTION:
URL:https://hillsidemontessorilagrange.com/event/mlk-holiday-no-school/
LOCATION:Hillside Montessori\, 1001 Hills and Dales Farm Road\, LaGrange\, GA\, 30240\, United States
ORGANIZER;CN="Hillside Montessori":MAILTO:elizabeth.hillsidemontessori@gmail.com
END:VEVENT
BEGIN:VEVENT
DTSTART;VALUE=DATE:20260129
DTEND;VALUE=DATE:20260130
DTSTAMP:20260425T064341
CREATED:20250715T135303Z
LAST-MODIFIED:20260126T113408Z
UID:2617-1769644800-1769731199@hillsidemontessorilagrange.com
SUMMARY:Science Fair
DESCRIPTION:Please see your communities daily communication for times they are presenting.
URL:https://hillsidemontessorilagrange.com/event/science-fair/
LOCATION:Hillside Montessori\, 1001 Hills and Dales Farm Road\, LaGrange\, GA\, 30240\, United States
ORGANIZER;CN="Hillside Montessori":MAILTO:elizabeth.hillsidemontessori@gmail.com
END:VEVENT
BEGIN:VEVENT
DTSTART;TZID=America/New_York:20260205T160000
DTEND;TZID=America/New_York:20260205T180000
DTSTAMP:20260425T064341
CREATED:20250715T140103Z
LAST-MODIFIED:20250715T140103Z
UID:2621-1770307200-1770314400@hillsidemontessorilagrange.com
SUMMARY:Open House
DESCRIPTION:
URL:https://hillsidemontessorilagrange.com/event/open-house/
LOCATION:Hillside Montessori\, 1001 Hills and Dales Farm Road\, LaGrange\, GA\, 30240\, United States
ORGANIZER;CN="Hillside Montessori":MAILTO:elizabeth.hillsidemontessori@gmail.com
END:VEVENT
BEGIN:VEVENT
DTSTART;TZID=America/New_York:20260210T083000
DTEND;TZID=America/New_York:20260210T110000
DTSTAMP:20260425T064341
CREATED:20260126T112547Z
LAST-MODIFIED:20260126T112828Z
UID:2868-1770712200-1770721200@hillsidemontessorilagrange.com
SUMMARY:Parent Lesson Days (Primary\, LE\, UE)
DESCRIPTION:
URL:https://hillsidemontessorilagrange.com/event/parent-lesson-days/
LOCATION:Hillside Montessori\, 1001 Hills and Dales Farm Road\, LaGrange\, GA\, 30240\, United States
ORGANIZER;CN="Hillside Montessori":MAILTO:elizabeth.hillsidemontessori@gmail.com
END:VEVENT
BEGIN:VEVENT
DTSTART;TZID=America/New_York:20260211T083000
DTEND;TZID=America/New_York:20260211T110000
DTSTAMP:20260425T064341
CREATED:20260126T112846Z
LAST-MODIFIED:20260126T112954Z
UID:2871-1770798600-1770807600@hillsidemontessorilagrange.com
SUMMARY:Parent Lesson Days (Primary\, LE\, UE)
DESCRIPTION:
URL:https://hillsidemontessorilagrange.com/event/parent-lesson-days-2/
LOCATION:Hillside Montessori\, 1001 Hills and Dales Farm Road\, LaGrange\, GA\, 30240\, United States
ORGANIZER;CN="Hillside Montessori":MAILTO:elizabeth.hillsidemontessori@gmail.com
END:VEVENT
BEGIN:VEVENT
DTSTART;VALUE=DATE:20260216
DTEND;VALUE=DATE:20260217
DTSTAMP:20260425T064341
CREATED:20250715T013025Z
LAST-MODIFIED:20250715T015740Z
UID:2535-1771200000-1771286399@hillsidemontessorilagrange.com
SUMMARY:Presidents' Day-Winter Break-No School
DESCRIPTION:
URL:https://hillsidemontessorilagrange.com/event/presidents-day-winter-break-no-school-2/
END:VEVENT
BEGIN:VEVENT
DTSTART;TZID=America/New_York:20260226T173000
DTEND;TZID=America/New_York:20260226T183000
DTSTAMP:20260425T064341
CREATED:20260202T180049Z
LAST-MODIFIED:20260202T180049Z
UID:2899-1772127000-1772130600@hillsidemontessorilagrange.com
SUMMARY:Montessori After Primary
DESCRIPTION:Come discover the many benefits of continuing your child’s education in a Montessori elementary classroom. Ask our Primary and Elementary guides how Montessori education is a continuing journey from toddler through Adolescent.
URL:https://hillsidemontessorilagrange.com/event/montessori-after-primary/
ATTACH;FMTTYPE=image/png:https://hillsidemontessorilagrange.com/wp-content/uploads/FPC-Montessori-Flyer-2.png
END:VEVENT
BEGIN:VEVENT
DTSTART;TZID=America/New_York:20260330T080000
DTEND;TZID=America/New_York:20260403T170000
DTSTAMP:20260425T064341
CREATED:20250715T140334Z
LAST-MODIFIED:20250715T140334Z
UID:2623-1774857600-1775235600@hillsidemontessorilagrange.com
SUMMARY:Spring Break
DESCRIPTION:
URL:https://hillsidemontessorilagrange.com/event/spring-break/
LOCATION:Hillside Montessori\, 1001 Hills and Dales Farm Road\, LaGrange\, GA\, 30240\, United States
ORGANIZER;CN="Hillside Montessori":MAILTO:elizabeth.hillsidemontessori@gmail.com
END:VEVENT
BEGIN:VEVENT
DTSTART;TZID=America/New_York:20260418T000000
DTEND;TZID=America/New_York:20260418T000000
DTSTAMP:20260425T064341
CREATED:20250715T013024Z
LAST-MODIFIED:20250715T013024Z
UID:2534-1776470400-1776470400@hillsidemontessorilagrange.com
SUMMARY:HML- Earth Day Festival
DESCRIPTION:
URL:https://hillsidemontessorilagrange.com/event/hml-earth-day-festival-2/
END:VEVENT
BEGIN:VEVENT
DTSTART;TZID=America/New_York:20260427T000000
DTEND;TZID=America/New_York:20260502T000000
DTSTAMP:20260425T064341
CREATED:20250715T011513Z
LAST-MODIFIED:20250715T013953Z
UID:2510-1777248000-1777680000@hillsidemontessorilagrange.com
SUMMARY:ITBS Testing Week
DESCRIPTION:
URL:https://hillsidemontessorilagrange.com/event/itbs-testing-week/
CATEGORIES:School Event
END:VEVENT
BEGIN:VEVENT
DTSTART;TZID=America/New_York:20260429T170000
DTEND;TZID=America/New_York:20260429T180000
DTSTAMP:20260425T064341
CREATED:20260423T175014Z
LAST-MODIFIED:20260423T175014Z
UID:2903-1777482000-1777485600@hillsidemontessorilagrange.com
SUMMARY:From the Prepared Environment to the Prepared Future
DESCRIPTION:One of the most frequently asked questions we receive is\, “How well do students transition from the Montessori adolescent program to traditional high school?”. Join us for an engaging discussion where our guides\, along with a panel of alumni students and parents\, will share their experiences and insights. Learn firsthand about the transition process\, gain valuable perspectives\, and discover how to best support your child through this important next step! We encourage parents from all levels to join us for this panel. This parent partnering event is for parents and caregivers of students at ALL levels. If childcare is needed\, children may be dropped off in the Primary Extended Day room.
URL:https://hillsidemontessorilagrange.com/event/from-the-prepared-environment-to-the-prepared-future/
ATTACH;FMTTYPE=image/png:https://hillsidemontessorilagrange.com/wp-content/uploads/From-The-Prepared-Environment-to-the-Prepared-Future.png
END:VEVENT
BEGIN:VEVENT
DTSTART;TZID=America/New_York:20260512T000000
DTEND;TZID=America/New_York:20260515T000000
DTSTAMP:20260425T064341
CREATED:20250715T011512Z
LAST-MODIFIED:20250715T013953Z
UID:2509-1778544000-1778803200@hillsidemontessorilagrange.com
SUMMARY:Transition Days
DESCRIPTION:
URL:https://hillsidemontessorilagrange.com/event/transition-days/
CATEGORIES:School Event
END:VEVENT
BEGIN:VEVENT
DTSTART;TZID=America/New_York:20260515T000000
DTEND;TZID=America/New_York:20260515T000000
DTSTAMP:20260425T064341
CREATED:20250715T013021Z
LAST-MODIFIED:20250715T013952Z
UID:2533-1778803200-1778803200@hillsidemontessorilagrange.com
SUMMARY:8th Grade Commencement
DESCRIPTION:
URL:https://hillsidemontessorilagrange.com/event/8th-grade-commencement-2/
CATEGORIES:School Event
END:VEVENT
BEGIN:VEVENT
DTSTART;TZID=America/New_York:20260520T100000
DTEND;TZID=America/New_York:20260520T120000
DTSTAMP:20260425T064341
CREATED:20250715T011511Z
LAST-MODIFIED:20250715T013620Z
UID:2507-1779271200-1779278400@hillsidemontessorilagrange.com
SUMMARY:Last Day of School 1/2 Day -EOY program
DESCRIPTION:
URL:https://hillsidemontessorilagrange.com/event/last-day-of-school-1-2-day-eoy-program/
END:VEVENT
BEGIN:VEVENT
DTSTART;TZID=America/New_York:20260521T000000
DTEND;TZID=America/New_York:20260523T000000
DTSTAMP:20260425T064341
CREATED:20250715T011510Z
LAST-MODIFIED:20250715T013951Z
UID:2506-1779321600-1779494400@hillsidemontessorilagrange.com
SUMMARY:Post Planning-Teachers & Staff (Student Holidays)
DESCRIPTION:
URL:https://hillsidemontessorilagrange.com/event/post-planning-teachers-staff-student-holidays/
CATEGORIES:School Event
END:VEVENT
END:VCALENDAR