BEGIN:VCALENDAR
VERSION:2.0
PRODID:-//Hillside Montessori LaGrange GA - ECPv6.15.20//NONSGML v1.0//EN
CALSCALE:GREGORIAN
METHOD:PUBLISH
X-WR-CALNAME:Hillside Montessori LaGrange GA
X-ORIGINAL-URL:https://hillsidemontessorilagrange.com
X-WR-CALDESC:Events for Hillside Montessori LaGrange GA
REFRESH-INTERVAL;VALUE=DURATION:PT1H
X-Robots-Tag:noindex
X-PUBLISHED-TTL:PT1H
BEGIN:VTIMEZONE
TZID:America/New_York
BEGIN:DAYLIGHT
TZOFFSETFROM:-0500
TZOFFSETTO:-0400
TZNAME:EDT
DTSTART:20220313T070000
END:DAYLIGHT
BEGIN:STANDARD
TZOFFSETFROM:-0400
TZOFFSETTO:-0500
TZNAME:EST
DTSTART:20221106T060000
END:STANDARD
BEGIN:DAYLIGHT
TZOFFSETFROM:-0500
TZOFFSETTO:-0400
TZNAME:EDT
DTSTART:20230312T070000
END:DAYLIGHT
BEGIN:STANDARD
TZOFFSETFROM:-0400
TZOFFSETTO:-0500
TZNAME:EST
DTSTART:20231105T060000
END:STANDARD
BEGIN:DAYLIGHT
TZOFFSETFROM:-0500
TZOFFSETTO:-0400
TZNAME:EDT
DTSTART:20240310T070000
END:DAYLIGHT
BEGIN:STANDARD
TZOFFSETFROM:-0400
TZOFFSETTO:-0500
TZNAME:EST
DTSTART:20241103T060000
END:STANDARD
BEGIN:DAYLIGHT
TZOFFSETFROM:-0500
TZOFFSETTO:-0400
TZNAME:EDT
DTSTART:20250309T070000
END:DAYLIGHT
BEGIN:STANDARD
TZOFFSETFROM:-0400
TZOFFSETTO:-0500
TZNAME:EST
DTSTART:20251102T060000
END:STANDARD
END:VTIMEZONE
BEGIN:VEVENT
DTSTART;TZID=America/New_York:20240617T090000
DTEND;TZID=America/New_York:20240621T120000
DTSTAMP:20260419T134505
CREATED:20240527T152055Z
LAST-MODIFIED:20240527T153151Z
UID:2186-1718614800-1718971200@hillsidemontessorilagrange.com
SUMMARY:Egypt Summer Camp
DESCRIPTION:Apply here:  \nhttps://www.transparentclassroom.com/s/977/online_applications/new?locale=en \nEgypt Camp \nKristin and Kersten  \nJune 17th-21st\, 9A-12P \nAges 3-7 \n$110 \nThe kingdom known as Egypt existed from 3150 BCE to 30 BCE. Their culture is known for massive pyramids and mummies. Often historians forget to mention the lived experience of people in Egypt. They had the same needs we do today like food\, clothing\, science\, and culture. They expressed themselves in writing\, art\, and fashion. This class will have stories\, crafts\, cooking\, and writing from Ancient Egypt. \nÂ 
URL:https://hillsidemontessorilagrange.com/event/egypt-camp/
LOCATION:Hillside Montessori\, 1001 Hills and Dales Farm Road\, LaGrange\, GA\, 30240\, United States
CATEGORIES:School Event
ATTACH;FMTTYPE=image/png:https://hillsidemontessorilagrange.com/wp-content/uploads/logo_Hretina.png
ORGANIZER;CN="Hillside Montessori":MAILTO:elizabeth.hillsidemontessori@gmail.com
END:VEVENT
BEGIN:VEVENT
DTSTART;TZID=America/New_York:20240603T090000
DTEND;TZID=America/New_York:20240607T120000
DTSTAMP:20260419T134505
CREATED:20240515T172627Z
LAST-MODIFIED:20240525T171835Z
UID:2179-1717405200-1717761600@hillsidemontessorilagrange.com
SUMMARY:Animal Summer Camp
DESCRIPTION:Apply here:  \nhttps://www.transparentclassroom.com/s/977/online_applications/new?locale=en \nÂ  \nAnimal Camp  \nJune 3rd-7th\, 9A-12P \nAges 3-7 \n$110 \nIs your child an animal? If so\, this camp is for them! We will discover what makes a creature an animal and discover how each class of animals differs from another. We will explore five vertebrate classes of animals: mammals\, birds\, reptiles\, fish\, and amphibians and their characteristics. The class will have songs\, crafts\, stories\, experiments and games\, but most importantly\, a lot of fun.
URL:https://hillsidemontessorilagrange.com/event/animal-camp/
LOCATION:Hillside Montessori\, 1001 Hills and Dales Farm Road\, LaGrange\, GA\, 30240\, United States
CATEGORIES:School Event
ATTACH;FMTTYPE=image/png:https://hillsidemontessorilagrange.com/wp-content/uploads/logo_Hretina.png
ORGANIZER;CN="Hillside Montessori":MAILTO:elizabeth.hillsidemontessori@gmail.com
END:VEVENT
BEGIN:VEVENT
DTSTART;TZID=America/New_York:20240528T090000
DTEND;TZID=America/New_York:20240531T120000
DTSTAMP:20260419T134505
CREATED:20240514T181809Z
LAST-MODIFIED:20240514T184732Z
UID:2174-1716886800-1717156800@hillsidemontessorilagrange.com
SUMMARY:Bollywood Summer Camp
DESCRIPTION:Apply here:\nhttps://www.transparentclassroom.com/s/977/online_applications/new?locale=en \nBollywood Camp\nMay 28-31\, 9A-12P\nAges 5-12\n$95\nJoin us for a fun 4-day camp where we will learn a lively Bollywood dance routine!\nAlong with learning fun and upbeat choreography\, we will enjoy fun\ncrafts such as candle decorating\, sand/glitter art (rangoli)\, and\ndesigning our own props to use for our dances!  We will also get to\nhear fun stories that go along with each craft.  Students will get a\nchance to enjoy some outdoor time\, and play fun team-building games\nthat are sure to help them as they prepare for a mini-performance at\nthe end of the week!  Students should bring a bottle of water and a\nsnack.
URL:https://hillsidemontessorilagrange.com/event/bollywoodcamp/
LOCATION:Hillside Montessori\, 1001 Hills and Dales Farm Road\, LaGrange\, GA\, 30240\, United States
CATEGORIES:School Event
ATTACH;FMTTYPE=image/png:https://hillsidemontessorilagrange.com/wp-content/uploads/logo_Hretina.png
ORGANIZER;CN="Hillside Montessori":MAILTO:elizabeth.hillsidemontessori@gmail.com
END:VEVENT
BEGIN:VEVENT
DTSTART;TZID=America/New_York:20240522T100000
DTEND;TZID=America/New_York:20240522T113000
DTSTAMP:20260419T134505
CREATED:20240109T202658Z
LAST-MODIFIED:20240501T150841Z
UID:2068-1716372000-1716377400@hillsidemontessorilagrange.com
SUMMARY:End of Year Program
DESCRIPTION:
URL:https://hillsidemontessorilagrange.com/event/eoy24/
LOCATION:Hillside Montessori\, 1001 Hills and Dales Farm Road\, LaGrange\, GA\, 30240\, United States
CATEGORIES:Family Event,School Event
ATTACH;FMTTYPE=image/png:https://hillsidemontessorilagrange.com/wp-content/uploads/logo_Hretina.png
ORGANIZER;CN="Hillside Montessori":MAILTO:elizabeth.hillsidemontessori@gmail.com
END:VEVENT
BEGIN:VEVENT
DTSTART;TZID=America/New_York:20240517T100000
DTEND;TZID=America/New_York:20240517T113000
DTSTAMP:20260419T134505
CREATED:20240109T202335Z
LAST-MODIFIED:20240501T150548Z
UID:2064-1715940000-1715945400@hillsidemontessorilagrange.com
SUMMARY:8th Grade Commencement
DESCRIPTION:Itâ€™s time to celebrate our graduates as they move on to high school!
URL:https://hillsidemontessorilagrange.com/event/commencement24/
LOCATION:Hillside Montessori\, 1001 Hills and Dales Farm Road\, LaGrange\, GA\, 30240\, United States
CATEGORIES:Family Event,School Event
ATTACH;FMTTYPE=image/png:https://hillsidemontessorilagrange.com/wp-content/uploads/logo_Hretina.png
ORGANIZER;CN="Hillside Montessori":MAILTO:elizabeth.hillsidemontessori@gmail.com
END:VEVENT
BEGIN:VEVENT
DTSTART;TZID=America/New_York:20240502T154500
DTEND;TZID=America/New_York:20240502T154500
DTSTAMP:20260419T134505
CREATED:20240408T133052Z
LAST-MODIFIED:20240408T133158Z
UID:2114-1714664700-1714664700@hillsidemontessorilagrange.com
SUMMARY:Level Transition Meeting
DESCRIPTION:Primary to Lower Elementary with Michele and Miranda.
URL:https://hillsidemontessorilagrange.com/event/level-transition-meeting-2-copy/
LOCATION:Hillside Montessori\, 1001 Hills and Dales Farm Road\, LaGrange\, GA\, 30240\, United States
CATEGORIES:School Event
ATTACH;FMTTYPE=image/png:https://hillsidemontessorilagrange.com/wp-content/uploads/logo_Hretina.png
ORGANIZER;CN="Hillside Montessori":MAILTO:elizabeth.hillsidemontessori@gmail.com
END:VEVENT
BEGIN:VEVENT
DTSTART;TZID=America/New_York:20240502T154500
DTEND;TZID=America/New_York:20240502T154500
DTSTAMP:20260419T134505
CREATED:20240408T132627Z
LAST-MODIFIED:20240408T132831Z
UID:2111-1714664700-1714664700@hillsidemontessorilagrange.com
SUMMARY:Level Transition Meeting
DESCRIPTION:Upper Elementary to Adolescent with Kandice\, Erik\, and Malley.
URL:https://hillsidemontessorilagrange.com/event/level-transition-meeting-2/
LOCATION:Hillside Montessori\, 1001 Hills and Dales Farm Road\, LaGrange\, GA\, 30240\, United States
CATEGORIES:School Event
ATTACH;FMTTYPE=image/png:https://hillsidemontessorilagrange.com/wp-content/uploads/logo_Hretina.png
ORGANIZER;CN="Hillside Montessori":MAILTO:elizabeth.hillsidemontessori@gmail.com
END:VEVENT
BEGIN:VEVENT
DTSTART;TZID=America/New_York:20240430T154500
DTEND;TZID=America/New_York:20240430T154500
DTSTAMP:20260419T134505
CREATED:20240408T131804Z
LAST-MODIFIED:20240408T132320Z
UID:2107-1714491900-1714491900@hillsidemontessorilagrange.com
SUMMARY:Level Transition Meeting
DESCRIPTION:Lower Elementary to Upper Elementary with Miranda and Kandice.
URL:https://hillsidemontessorilagrange.com/event/level-transition-meeting/
LOCATION:Hillside Montessori\, 1001 Hills and Dales Farm Road\, LaGrange\, GA\, 30240\, United States
CATEGORIES:School Event
ATTACH;FMTTYPE=image/png:https://hillsidemontessorilagrange.com/wp-content/uploads/logo_Hretina.png
ORGANIZER;CN="Hillside Montessori":MAILTO:elizabeth.hillsidemontessori@gmail.com
END:VEVENT
BEGIN:VEVENT
DTSTART;TZID=America/New_York:20240430T154500
DTEND;TZID=America/New_York:20240430T154500
DTSTAMP:20260419T134505
CREATED:20240408T130939Z
LAST-MODIFIED:20240408T132402Z
UID:2104-1714491900-1714491900@hillsidemontessorilagrange.com
SUMMARY:Level Transition Meeting
DESCRIPTION:Toddler to Primary with Pat and Michele.
URL:https://hillsidemontessorilagrange.com/event/transition-meeting/
LOCATION:Hillside Montessori\, 1001 Hills and Dales Farm Road\, LaGrange\, GA\, 30240\, United States
CATEGORIES:School Event
ATTACH;FMTTYPE=image/png:https://hillsidemontessorilagrange.com/wp-content/uploads/logo_Hretina.png
ORGANIZER;CN="Hillside Montessori":MAILTO:elizabeth.hillsidemontessori@gmail.com
END:VEVENT
BEGIN:VEVENT
DTSTART;VALUE=DATE:20240429
DTEND;VALUE=DATE:20240504
DTSTAMP:20260419T134505
CREATED:20240103T194010Z
LAST-MODIFIED:20240103T194214Z
UID:2054-1714348800-1714780799@hillsidemontessorilagrange.com
SUMMARY:Transition Week
DESCRIPTION:Students who are completing their third year in a curriculum cycle will spend the week visiting a classroom at the next level!
URL:https://hillsidemontessorilagrange.com/event/transitionweek24/
LOCATION:Hillside Montessori\, 1001 Hills and Dales Farm Road\, LaGrange\, GA\, 30240\, United States
CATEGORIES:School Event
ATTACH;FMTTYPE=image/png:https://hillsidemontessorilagrange.com/wp-content/uploads/logo_Hretina.png
ORGANIZER;CN="Hillside Montessori":MAILTO:elizabeth.hillsidemontessori@gmail.com
END:VEVENT
BEGIN:VEVENT
DTSTART;VALUE=DATE:20240422
DTEND;VALUE=DATE:20240427
DTSTAMP:20260419T134505
CREATED:20240103T193814Z
LAST-MODIFIED:20240103T194409Z
UID:2051-1713744000-1714175999@hillsidemontessorilagrange.com
SUMMARY:ITBS Testing
DESCRIPTION:Students in 2nd-8th grades will be taking the ITBS test in the mornings.
URL:https://hillsidemontessorilagrange.com/event/itbs2024/
LOCATION:Hillside Montessori\, 1001 Hills and Dales Farm Road\, LaGrange\, GA\, 30240\, United States
CATEGORIES:School Event
ATTACH;FMTTYPE=image/png:https://hillsidemontessorilagrange.com/wp-content/uploads/logo_Hretina.png
ORGANIZER;CN="Hillside Montessori":MAILTO:elizabeth.hillsidemontessori@gmail.com
END:VEVENT
BEGIN:VEVENT
DTSTART;TZID=America/New_York:20240421T140000
DTEND;TZID=America/New_York:20240421T160000
DTSTAMP:20260419T134505
CREATED:20240329T193251Z
LAST-MODIFIED:20240408T182528Z
UID:2099-1713708000-1713715200@hillsidemontessorilagrange.com
SUMMARY:Annual Fund Family Earth Day Celebration
DESCRIPTION:
URL:https://hillsidemontessorilagrange.com/event/familyfun24/
LOCATION:Wild Leap
CATEGORIES:Family Event,School Event
ATTACH;FMTTYPE=image/png:https://hillsidemontessorilagrange.com/wp-content/uploads/logo_Hretina.png
ORGANIZER;CN="Hillside Montessori":MAILTO:elizabeth.hillsidemontessori@gmail.com
END:VEVENT
BEGIN:VEVENT
DTSTART;VALUE=DATE:20240419
DTEND;VALUE=DATE:20240420
DTSTAMP:20260419T134505
CREATED:20231127T192607Z
LAST-MODIFIED:20240103T193142Z
UID:1981-1713484800-1713571199@hillsidemontessorilagrange.com
SUMMARY:Earth Day Celebration
DESCRIPTION:Hillside Montessori students and staff celebrate Earth Day!
URL:https://hillsidemontessorilagrange.com/event/earthday2024/
LOCATION:Hillside Montessori\, 1001 Hills and Dales Farm Road\, LaGrange\, GA\, 30240\, United States
CATEGORIES:School Event
ATTACH;FMTTYPE=image/png:https://hillsidemontessorilagrange.com/wp-content/uploads/logo_Hretina.png
ORGANIZER;CN="Hillside Montessori":MAILTO:elizabeth.hillsidemontessori@gmail.com
END:VEVENT
BEGIN:VEVENT
DTSTART;TZID=America/New_York:20240411T183000
DTEND;TZID=America/New_York:20240411T183000
DTSTAMP:20260419T134505
CREATED:20240328T155151Z
LAST-MODIFIED:20240328T155752Z
UID:2087-1712860200-1712860200@hillsidemontessorilagrange.com
SUMMARY:Parent Partnering
DESCRIPTION:
URL:https://hillsidemontessorilagrange.com/event/parent-partnering/
LOCATION:Hillside Montessori\, 1001 Hills and Dales Farm Road\, LaGrange\, GA\, 30240\, United States
CATEGORIES:Family Event,School Event
ATTACH;FMTTYPE=image/png:https://hillsidemontessorilagrange.com/wp-content/uploads/logo_Hretina.png
ORGANIZER;CN="Hillside Montessori":MAILTO:elizabeth.hillsidemontessori@gmail.com
END:VEVENT
BEGIN:VEVENT
DTSTART;VALUE=DATE:20240401
DTEND;VALUE=DATE:20240406
DTSTAMP:20260419T134505
CREATED:20240109T202226Z
LAST-MODIFIED:20240109T202318Z
UID:2062-1711929600-1712361599@hillsidemontessorilagrange.com
SUMMARY:Spring Break
DESCRIPTION:
URL:https://hillsidemontessorilagrange.com/event/springbreak24/
LOCATION:Hillside Montessori\, 1001 Hills and Dales Farm Road\, LaGrange\, GA\, 30240\, United States
CATEGORIES:School Event
ATTACH;FMTTYPE=image/png:https://hillsidemontessorilagrange.com/wp-content/uploads/logo_Hretina.png
ORGANIZER;CN="Hillside Montessori":MAILTO:elizabeth.hillsidemontessori@gmail.com
END:VEVENT
BEGIN:VEVENT
DTSTART;TZID=America/New_York:20240223T180000
DTEND;TZID=America/New_York:20240223T193000
DTSTAMP:20260419T134505
CREATED:20240123T170738Z
LAST-MODIFIED:20240123T170847Z
UID:2076-1708711200-1708716600@hillsidemontessorilagrange.com
SUMMARY:Variety Show
DESCRIPTION:
URL:https://hillsidemontessorilagrange.com/event/varietyshow24/
LOCATION:Callaway Auditorium\, 801 Dallis Street\, LaGrange\, GA\, 30240\, United States
CATEGORIES:Family Event,School Event
ATTACH;FMTTYPE=image/png:https://hillsidemontessorilagrange.com/wp-content/uploads/logo_Hretina.png
ORGANIZER;CN="Hillside Montessori":MAILTO:elizabeth.hillsidemontessori@gmail.com
END:VEVENT
BEGIN:VEVENT
DTSTART;VALUE=DATE:20240216
DTEND;VALUE=DATE:20240220
DTSTAMP:20260419T134505
CREATED:20240109T202013Z
LAST-MODIFIED:20240109T202136Z
UID:2059-1708041600-1708387199@hillsidemontessorilagrange.com
SUMMARY:Winter Break
DESCRIPTION:
URL:https://hillsidemontessorilagrange.com/event/winterbreak24/
LOCATION:Hillside Montessori\, 1001 Hills and Dales Farm Road\, LaGrange\, GA\, 30240\, United States
CATEGORIES:School Event
ATTACH;FMTTYPE=image/png:https://hillsidemontessorilagrange.com/wp-content/uploads/logo_Hretina.png
ORGANIZER;CN="Hillside Montessori":MAILTO:elizabeth.hillsidemontessori@gmail.com
END:VEVENT
BEGIN:VEVENT
DTSTART;TZID=America/New_York:20240208T160000
DTEND;TZID=America/New_York:20240208T180000
DTSTAMP:20260419T134506
CREATED:20231127T184344Z
LAST-MODIFIED:20240202T151301Z
UID:1978-1707408000-1707415200@hillsidemontessorilagrange.com
SUMMARY:Open House
DESCRIPTION:We invite guests to tour Hillside Montessori and meet our wonderful staff. \nThere is no Extended Day on this day.
URL:https://hillsidemontessorilagrange.com/event/openhouse2024/
LOCATION:Hillside Montessori\, 1001 Hills and Dales Farm Road\, LaGrange\, GA\, 30240\, United States
CATEGORIES:Family Event,Public Event
ATTACH;FMTTYPE=image/png:https://hillsidemontessorilagrange.com/wp-content/uploads/logo_Hretina.png
ORGANIZER;CN="Hillside Montessori":MAILTO:elizabeth.hillsidemontessori@gmail.com
END:VEVENT
BEGIN:VEVENT
DTSTART;TZID=America/New_York:20240130T083000
DTEND;TZID=America/New_York:20240130T100000
DTSTAMP:20260419T134506
CREATED:20240103T193533Z
LAST-MODIFIED:20240118T152647Z
UID:2047-1706603400-1706608800@hillsidemontessorilagrange.com
SUMMARY:Parent Lesson Days
DESCRIPTION:Guests may join their children for individual lessons in the Primary and Elementary classrooms.
URL:https://hillsidemontessorilagrange.com/event/lessonday2024-copy/
LOCATION:Hillside Montessori\, 1001 Hills and Dales Farm Road\, LaGrange\, GA\, 30240\, United States
CATEGORIES:Family Event
ATTACH;FMTTYPE=image/png:https://hillsidemontessorilagrange.com/wp-content/uploads/logo_Hretina.png
ORGANIZER;CN="Hillside Montessori":MAILTO:elizabeth.hillsidemontessori@gmail.com
END:VEVENT
BEGIN:VEVENT
DTSTART;TZID=America/New_York:20240123T083000
DTEND;TZID=America/New_York:20240123T100000
DTSTAMP:20260419T134506
CREATED:20240103T193212Z
LAST-MODIFIED:20240118T152753Z
UID:2044-1705998600-1706004000@hillsidemontessorilagrange.com
SUMMARY:Parent Lesson Days
DESCRIPTION:Guests may join their children for individual lessons in the Primary and Elementary classrooms.
URL:https://hillsidemontessorilagrange.com/event/lessonday2024/
LOCATION:Hillside Montessori\, 1001 Hills and Dales Farm Road\, LaGrange\, GA\, 30240\, United States
CATEGORIES:Family Event
ATTACH;FMTTYPE=image/png:https://hillsidemontessorilagrange.com/wp-content/uploads/logo_Hretina.png
ORGANIZER;CN="Hillside Montessori":MAILTO:elizabeth.hillsidemontessori@gmail.com
END:VEVENT
BEGIN:VEVENT
DTSTART;VALUE=DATE:20240115
DTEND;VALUE=DATE:20240116
DTSTAMP:20260419T134506
CREATED:20231127T183955Z
LAST-MODIFIED:20231127T184230Z
UID:1975-1705276800-1705363199@hillsidemontessorilagrange.com
SUMMARY:Martin Luther King\, Jr. Holiday
DESCRIPTION:Â  \nWe will be closed in honor of Dr. Martin Luther King\, Jr.
URL:https://hillsidemontessorilagrange.com/event/mlkday/
LOCATION:Hillside Montessori\, 1001 Hills and Dales Farm Road\, LaGrange\, GA\, 30240\, United States
CATEGORIES:School Holiday
ATTACH;FMTTYPE=image/png:https://hillsidemontessorilagrange.com/wp-content/uploads/logo_Hretina.png
ORGANIZER;CN="Hillside Montessori":MAILTO:elizabeth.hillsidemontessori@gmail.com
END:VEVENT
BEGIN:VEVENT
DTSTART;VALUE=DATE:20231216
DTEND;VALUE=DATE:20240103
DTSTAMP:20260419T134506
CREATED:20231127T183233Z
LAST-MODIFIED:20231127T183753Z
UID:1972-1702684800-1704239999@hillsidemontessorilagrange.com
SUMMARY:Christmas Holidays
DESCRIPTION:Â  \nWe hope you have a safe and happy break!
URL:https://hillsidemontessorilagrange.com/event/christmasbreak/
LOCATION:Hillside Montessori\, 1001 Hills and Dales Farm Road\, LaGrange\, GA\, 30240\, United States
CATEGORIES:School Holiday
ATTACH;FMTTYPE=image/png:https://hillsidemontessorilagrange.com/wp-content/uploads/logo_Hretina.png
ORGANIZER;CN="Hillside Montessori":MAILTO:elizabeth.hillsidemontessori@gmail.com
END:VEVENT
BEGIN:VEVENT
DTSTART;TZID=America/New_York:20231215T100000
DTEND;TZID=America/New_York:20231215T110000
DTSTAMP:20260419T134506
CREATED:20221222T185118Z
LAST-MODIFIED:20231205T205013Z
UID:1024-1702634400-1702638000@hillsidemontessorilagrange.com
SUMMARY:Holiday Program
DESCRIPTION:We invite our families and friends to enjoy a holiday music program featuring Hillside Montessori students! Students from the Toddler\, Primary\, and Lower Elementary music classes will perform and along with the Upper Elementary chorus and percussion ensemble and the Adolescent band.
URL:https://hillsidemontessorilagrange.com/event/holidayprogram2023/
LOCATION:Callaway Auditorium\, 801 Dallis Street\, LaGrange\, GA\, 30240\, United States
CATEGORIES:Family Event
ATTACH;FMTTYPE=image/png:https://hillsidemontessorilagrange.com/wp-content/uploads/logo_Hretina.png
ORGANIZER;CN="Hillside Montessori":MAILTO:elizabeth.hillsidemontessori@gmail.com
END:VEVENT
END:VCALENDAR